BEGIN:VCALENDAR
VERSION:2.0
PRODID:-//DPCSC - ECPv6.15.16.1//NONSGML v1.0//EN
CALSCALE:GREGORIAN
METHOD:PUBLISH
X-ORIGINAL-URL:https://dpcsc.org
X-WR-CALDESC:Events for DPCSC
REFRESH-INTERVAL;VALUE=DURATION:PT1H
X-Robots-Tag:noindex
X-PUBLISHED-TTL:PT1H
BEGIN:VTIMEZONE
TZID:America/Los_Angeles
BEGIN:DAYLIGHT
TZOFFSETFROM:-0800
TZOFFSETTO:-0700
TZNAME:PDT
DTSTART:20250309T100000
END:DAYLIGHT
BEGIN:STANDARD
TZOFFSETFROM:-0700
TZOFFSETTO:-0800
TZNAME:PST
DTSTART:20251102T090000
END:STANDARD
BEGIN:DAYLIGHT
TZOFFSETFROM:-0800
TZOFFSETTO:-0700
TZNAME:PDT
DTSTART:20260308T100000
END:DAYLIGHT
BEGIN:STANDARD
TZOFFSETFROM:-0700
TZOFFSETTO:-0800
TZNAME:PST
DTSTART:20261101T090000
END:STANDARD
BEGIN:DAYLIGHT
TZOFFSETFROM:-0800
TZOFFSETTO:-0700
TZNAME:PDT
DTSTART:20270314T100000
END:DAYLIGHT
BEGIN:STANDARD
TZOFFSETFROM:-0700
TZOFFSETTO:-0800
TZNAME:PST
DTSTART:20271107T090000
END:STANDARD
END:VTIMEZONE
BEGIN:VEVENT
DTSTART;TZID=America/Los_Angeles:20260628T000000
DTEND;TZID=America/Los_Angeles:20260628T235959
DTSTAMP:20260424T104241
CREATED:20260226T190404Z
LAST-MODIFIED:20260226T190404Z
UID:476-1782604800-1782691199@dpcsc.org
SUMMARY:Meet the Breed at the Del Mar Fairgrounds
DESCRIPTION:We will be going to the Del Mar Fair again this year to host a DPCA Meet The Breed booth.
URL:https://dpcsc.org/event/meet-the-breed-at-the-del-mar-fairgrounds/
END:VEVENT
END:VCALENDAR